BEGIN:VCALENDAR
VERSION:2.0
PRODID:-//Hillview Baptist Church - ECPv6.13.0//NONSGML v1.0//EN
CALSCALE:GREGORIAN
METHOD:PUBLISH
X-WR-CALNAME:Hillview Baptist Church
X-ORIGINAL-URL:https://hillviewbaptistgoodlettsville.com
X-WR-CALDESC:Events for Hillview Baptist Church
REFRESH-INTERVAL;VALUE=DURATION:PT1H
X-Robots-Tag:noindex
X-PUBLISHED-TTL:PT1H
BEGIN:VTIMEZONE
TZID:UTC
BEGIN:STANDARD
TZOFFSETFROM:+0000
TZOFFSETTO:+0000
TZNAME:UTC
DTSTART:20250101T000000
END:STANDARD
END:VTIMEZONE
BEGIN:VEVENT
DTSTART;TZID=UTC:20260504T163000
DTEND;TZID=UTC:20260504T183000
DTSTAMP:20260425T151856
CREATED:20260422T013645Z
LAST-MODIFIED:20260422T013722Z
UID:6419-1777912200-1777919400@hillviewbaptistgoodlettsville.com
SUMMARY:Monday Night Outreach
DESCRIPTION:Come join us in preparing meals for this wonderful ministry!!!!!!!
URL:https://hillviewbaptistgoodlettsville.com/event/monday-night-outreach-2/
ATTACH;FMTTYPE=image/jpeg:https://hillviewbaptistgoodlettsville.com/wp-content/uploads/2025/03/meals-ministry.jpg
END:VEVENT
BEGIN:VEVENT
DTSTART;TZID=UTC:20260406T170000
DTEND;TZID=UTC:20260406T190000
DTSTAMP:20260425T151856
CREATED:20260222T222546Z
LAST-MODIFIED:20260222T222550Z
UID:6407-1775494800-1775502000@hillviewbaptistgoodlettsville.com
SUMMARY:Monday Night Outreach
DESCRIPTION:Volunteers to pack food are always welcome!!!!
URL:https://hillviewbaptistgoodlettsville.com/event/monday-night-outreach/
ATTACH;FMTTYPE=image/jpeg:https://hillviewbaptistgoodlettsville.com/wp-content/uploads/2025/03/meals-ministry.jpg
END:VEVENT
BEGIN:VEVENT
DTSTART;TZID=UTC:20260405T090000
DTEND;TZID=UTC:20260405T120000
DTSTAMP:20260425T151856
CREATED:20260222T222218Z
LAST-MODIFIED:20260222T222224Z
UID:6404-1775379600-1775390400@hillviewbaptistgoodlettsville.com
SUMMARY:Easter Sunday
DESCRIPTION:Come Join us for a wonderful service including The Lord’s Supper!!!!!!!
URL:https://hillviewbaptistgoodlettsville.com/event/easter-sunday/
ATTACH;FMTTYPE=image/jpeg:https://hillviewbaptistgoodlettsville.com/wp-content/uploads/2026/02/Easter-Sunday.jpg
END:VEVENT
BEGIN:VEVENT
DTSTART;TZID=UTC:20260329T103000
DTEND;TZID=UTC:20260329T123000
DTSTAMP:20260425T151856
CREATED:20260110T193636Z
LAST-MODIFIED:20260110T194053Z
UID:6391-1774780200-1774787400@hillviewbaptistgoodlettsville.com
SUMMARY:5th Sunday Fellowship March 2026
DESCRIPTION:Join us in a great time of fellowship!  More details to follow.
URL:https://hillviewbaptistgoodlettsville.com/event/5th-sunday-fellowship-march-2026/
ATTACH;FMTTYPE=image/jpeg:https://hillviewbaptistgoodlettsville.com/wp-content/uploads/2026/01/5th-Sunday.jpg
END:VEVENT
BEGIN:VEVENT
DTSTART;TZID=UTC:20260328T080000
DTEND;TZID=UTC:20260328T120000
DTSTAMP:20260425T151856
CREATED:20260110T193442Z
LAST-MODIFIED:20260110T193442Z
UID:6388-1774684800-1774699200@hillviewbaptistgoodlettsville.com
SUMMARY:Men's Day
DESCRIPTION:The men of the church will fellowship\, have a devotional\, and work on the church facility and grounds!!! 
URL:https://hillviewbaptistgoodlettsville.com/event/mens-day/
ATTACH;FMTTYPE=image/jpeg:https://hillviewbaptistgoodlettsville.com/wp-content/uploads/2026/01/IMG_2576-scaled.jpg
END:VEVENT
BEGIN:VEVENT
DTSTART;TZID=UTC:20260304T183000
DTEND;TZID=UTC:20260304T190000
DTSTAMP:20260425T151856
CREATED:20260110T031421Z
LAST-MODIFIED:20260222T221549Z
UID:6369-1772649000-1772650800@hillviewbaptistgoodlettsville.com
SUMMARY:Member Meeting 1st Qtr 2026
DESCRIPTION:Come and help us conduct the Lord’s business!!!!!
URL:https://hillviewbaptistgoodlettsville.com/event/6369/
ATTACH;FMTTYPE=image/jpeg:https://hillviewbaptistgoodlettsville.com/wp-content/uploads/2026/01/Members-Meeting.jpg
END:VEVENT
BEGIN:VEVENT
DTSTART;TZID=UTC:20260302T163000
DTEND;TZID=UTC:20260302T183000
DTSTAMP:20260425T151856
CREATED:20260110T192516Z
LAST-MODIFIED:20260110T193115Z
UID:6378-1772469000-1772476200@hillviewbaptistgoodlettsville.com
SUMMARY:Outreach Ministry March 2026
DESCRIPTION:Come Help us in this wonderful ministry to the lost!!!!!!
URL:https://hillviewbaptistgoodlettsville.com/event/6378/
ATTACH;FMTTYPE=image/jpeg:https://hillviewbaptistgoodlettsville.com/wp-content/uploads/2025/03/meals-ministry.jpg
END:VEVENT
BEGIN:VEVENT
DTSTART;TZID=UTC:20260301T093000
DTEND;TZID=UTC:20260301T120000
DTSTAMP:20260425T151857
CREATED:20260110T031925Z
LAST-MODIFIED:20260222T222353Z
UID:6372-1772357400-1772366400@hillviewbaptistgoodlettsville.com
SUMMARY:The Lord's Supper
DESCRIPTION:Come and join us as we take part in the Lord’s Supper!!!!
URL:https://hillviewbaptistgoodlettsville.com/event/6372/
ATTACH;FMTTYPE=image/png:https://hillviewbaptistgoodlettsville.com/wp-content/uploads/2026/01/Lords-Supper.png
END:VEVENT
BEGIN:VEVENT
DTSTART;TZID=UTC:20260220T173000
DTEND;TZID=UTC:20260220T200000
DTSTAMP:20260425T151857
CREATED:20250520T195807Z
LAST-MODIFIED:20260215T122850Z
UID:6273-1771608600-1771617600@hillviewbaptistgoodlettsville.com
SUMMARY:Parents Night Out (Click Here To Register)
DESCRIPTION:Notice: JavaScript is required for this content.
URL:https://hillviewbaptistgoodlettsville.com/parents-night-out-registration/
LOCATION:Hillview Baptist Church\, 1268 Springfield Hwy\, Goodlettsville\, TN\, 37072\, United States
CATEGORIES:Parents
ATTACH;FMTTYPE=image/jpeg:https://hillviewbaptistgoodlettsville.com/wp-content/uploads/2025/05/IMG_0954.jpeg
END:VEVENT
BEGIN:VEVENT
DTSTART;TZID=UTC:20260202T163000
DTEND;TZID=UTC:20260202T180000
DTSTAMP:20260425T151857
CREATED:20260110T024647Z
LAST-MODIFIED:20260110T192804Z
UID:6363-1770049800-1770055200@hillviewbaptistgoodlettsville.com
SUMMARY:Outreach Ministry Feb 2026
DESCRIPTION:Whether you help prepare meals for the ministry or actually go out and minister to the lost\, you are welcome to come join us!!!!!!
URL:https://hillviewbaptistgoodlettsville.com/event/6363/
ATTACH;FMTTYPE=image/jpeg:https://hillviewbaptistgoodlettsville.com/wp-content/uploads/2025/03/meals-ministry.jpg
END:VEVENT
BEGIN:VEVENT
DTSTART;TZID=UTC:20260125T093000
DTEND;TZID=UTC:20260125T101500
DTSTAMP:20260425T151857
CREATED:20260110T024355Z
LAST-MODIFIED:20260110T192727Z
UID:6361-1769333400-1769336100@hillviewbaptistgoodlettsville.com
SUMMARY:New Member Class
DESCRIPTION:We would love to have you join our family!!!!!
URL:https://hillviewbaptistgoodlettsville.com/event/6361/
ATTACH;FMTTYPE=image/jpeg:https://hillviewbaptistgoodlettsville.com/wp-content/uploads/2026/01/New-Member-Class.jpg
END:VEVENT
BEGIN:VEVENT
DTSTART;TZID=UTC:20260118T093000
DTEND;TZID=UTC:20260118T101500
DTSTAMP:20260425T151857
CREATED:20260110T024058Z
LAST-MODIFIED:20260110T192659Z
UID:6358-1768728600-1768731300@hillviewbaptistgoodlettsville.com
SUMMARY:New Member Class
DESCRIPTION:Come Learn More About Hillview!!!
URL:https://hillviewbaptistgoodlettsville.com/event/6358/
ATTACH;FMTTYPE=image/jpeg:https://hillviewbaptistgoodlettsville.com/wp-content/uploads/2026/01/New-Member-Class.jpg
END:VEVENT
BEGIN:VEVENT
DTSTART;TZID=UTC:20251224T170000
DTEND;TZID=UTC:20251224T190000
DTSTAMP:20260425T151857
CREATED:20251222T031718Z
LAST-MODIFIED:20251222T031718Z
UID:6351-1766595600-1766602800@hillviewbaptistgoodlettsville.com
SUMMARY:Christmas Eve Candlelight Service
DESCRIPTION:Come and join us for a wonderful\, God Glorifying night of Worship!!!! \n 
URL:https://hillviewbaptistgoodlettsville.com/event/christmas-eve-candlelight-service/
ATTACH;FMTTYPE=image/jpeg:https://hillviewbaptistgoodlettsville.com/wp-content/uploads/2025/12/Candlelight-Service.jpg
END:VEVENT
BEGIN:VEVENT
DTSTART;TZID=UTC:20251125T180000
DTEND;TZID=UTC:20251125T210000
DTSTAMP:20260425T151857
CREATED:20251118T020227Z
LAST-MODIFIED:20251118T020237Z
UID:6346-1764093600-1764104400@hillviewbaptistgoodlettsville.com
SUMMARY:Wednesday on Tuesday Thanksgiving Fellowship
DESCRIPTION:Come Join us for a night of Fellowship and Thanksgiving!!!!!!!!
URL:https://hillviewbaptistgoodlettsville.com/event/wednesday-on-tuesday-thanksgiving-fellowship/
ATTACH;FMTTYPE=image/png:https://hillviewbaptistgoodlettsville.com/wp-content/uploads/2025/11/BCO.f680439d-2160-4266-9f1d-db0a2481a55b-e1763431187211.png
END:VEVENT
BEGIN:VEVENT
DTSTART;TZID=UTC:20251018T160000
DTEND;TZID=UTC:20251018T180000
DTSTAMP:20260425T151857
CREATED:20250924T020514Z
LAST-MODIFIED:20250924T020514Z
UID:6329-1760803200-1760810400@hillviewbaptistgoodlettsville.com
SUMMARY:Fall Festival
DESCRIPTION:Join Us for Our Fall Festival!!!!  Everyone is Welcome!!!!!\nGames\, Food and Of Course Lot’s of Fellowship!!!!
URL:https://hillviewbaptistgoodlettsville.com/event/fall-festival/
ATTACH;FMTTYPE=image/jpeg:https://hillviewbaptistgoodlettsville.com/wp-content/uploads/2025/09/Fall-Festival-scaled.jpg
END:VEVENT
BEGIN:VEVENT
DTSTART;VALUE=DATE:20250810
DTEND;VALUE=DATE:20250811
DTSTAMP:20260425T151857
CREATED:20250704T025032Z
LAST-MODIFIED:20250704T030005Z
UID:6308-1754784000-1754870399@hillviewbaptistgoodlettsville.com
SUMMARY:30th Anniversary Celebration
DESCRIPTION:
URL:https://hillviewbaptistgoodlettsville.com/event/30th-anniversary-celebration/
LOCATION:Hillview Baptist Church\, 1268 Springfield Hwy\, Goodlettsville\, TN\, 37072\, United States
ATTACH;FMTTYPE=image/png:https://hillviewbaptistgoodlettsville.com/wp-content/uploads/2025/07/typorama.png
END:VEVENT
BEGIN:VEVENT
DTSTART;TZID=UTC:20250518T103000
DTEND;TZID=UTC:20250518T233000
DTSTAMP:20260425T151857
CREATED:20250513T150603Z
LAST-MODIFIED:20250513T151814Z
UID:6262-1747564200-1747611000@hillviewbaptistgoodlettsville.com
SUMMARY:Graduation Celebration 2025
DESCRIPTION:
URL:https://hillviewbaptistgoodlettsville.com/event/grad-celebration-2025/
END:VEVENT
END:VCALENDAR