BEGIN:VCALENDAR
VERSION:2.0
PRODID:-//Hillview Baptist Church - ECPv6.13.0//NONSGML v1.0//EN
CALSCALE:GREGORIAN
METHOD:PUBLISH
X-WR-CALNAME:Hillview Baptist Church
X-ORIGINAL-URL:https://hillviewbaptistgoodlettsville.com
X-WR-CALDESC:Events for Hillview Baptist Church
REFRESH-INTERVAL;VALUE=DURATION:PT1H
X-Robots-Tag:noindex
X-PUBLISHED-TTL:PT1H
BEGIN:VTIMEZONE
TZID:UTC
BEGIN:STANDARD
TZOFFSETFROM:+0000
TZOFFSETTO:+0000
TZNAME:UTC
DTSTART:20260101T000000
END:STANDARD
END:VTIMEZONE
BEGIN:VEVENT
DTSTART;TZID=UTC:20260329T103000
DTEND;TZID=UTC:20260329T123000
DTSTAMP:20260425T150914
CREATED:20260110T193636Z
LAST-MODIFIED:20260110T194053Z
UID:6391-1774780200-1774787400@hillviewbaptistgoodlettsville.com
SUMMARY:5th Sunday Fellowship March 2026
DESCRIPTION:Join us in a great time of fellowship!  More details to follow.
URL:https://hillviewbaptistgoodlettsville.com/event/5th-sunday-fellowship-march-2026/
ATTACH;FMTTYPE=image/jpeg:https://hillviewbaptistgoodlettsville.com/wp-content/uploads/2026/01/5th-Sunday.jpg
END:VEVENT
BEGIN:VEVENT
DTSTART;TZID=UTC:20260405T090000
DTEND;TZID=UTC:20260405T120000
DTSTAMP:20260425T150914
CREATED:20260222T222218Z
LAST-MODIFIED:20260222T222224Z
UID:6404-1775379600-1775390400@hillviewbaptistgoodlettsville.com
SUMMARY:Easter Sunday
DESCRIPTION:Come Join us for a wonderful service including The Lord’s Supper!!!!!!!
URL:https://hillviewbaptistgoodlettsville.com/event/easter-sunday/
ATTACH;FMTTYPE=image/jpeg:https://hillviewbaptistgoodlettsville.com/wp-content/uploads/2026/02/Easter-Sunday.jpg
END:VEVENT
BEGIN:VEVENT
DTSTART;TZID=UTC:20260406T170000
DTEND;TZID=UTC:20260406T190000
DTSTAMP:20260425T150914
CREATED:20260222T222546Z
LAST-MODIFIED:20260222T222550Z
UID:6407-1775494800-1775502000@hillviewbaptistgoodlettsville.com
SUMMARY:Monday Night Outreach
DESCRIPTION:Volunteers to pack food are always welcome!!!!
URL:https://hillviewbaptistgoodlettsville.com/event/monday-night-outreach/
ATTACH;FMTTYPE=image/jpeg:https://hillviewbaptistgoodlettsville.com/wp-content/uploads/2025/03/meals-ministry.jpg
END:VEVENT
BEGIN:VEVENT
DTSTART;TZID=UTC:20260504T163000
DTEND;TZID=UTC:20260504T183000
DTSTAMP:20260425T150914
CREATED:20260422T013645Z
LAST-MODIFIED:20260422T013722Z
UID:6419-1777912200-1777919400@hillviewbaptistgoodlettsville.com
SUMMARY:Monday Night Outreach
DESCRIPTION:Come join us in preparing meals for this wonderful ministry!!!!!!!
URL:https://hillviewbaptistgoodlettsville.com/event/monday-night-outreach-2/
ATTACH;FMTTYPE=image/jpeg:https://hillviewbaptistgoodlettsville.com/wp-content/uploads/2025/03/meals-ministry.jpg
END:VEVENT
BEGIN:VEVENT
DTSTART;TZID=UTC:20260508T173000
DTEND;TZID=UTC:20260508T200000
DTSTAMP:20260425T150914
CREATED:20260422T014151Z
LAST-MODIFIED:20260422T015134Z
UID:6422-1778261400-1778270400@hillviewbaptistgoodlettsville.com
SUMMARY:Kingdom Kids Parents Night Out (Click Here and Scroll Down to Register)
DESCRIPTION:The more the merrier!!!!!  Bring your kids and leave them with us for a few hours while you spend some time for yourself!!  We hope to see you!!!!\n  \n\n	Notice: JavaScript is required for this content.
URL:https://hillviewbaptistgoodlettsville.com/event/kingdom-kids-parents-night-out/
ATTACH;FMTTYPE=image/jpeg:https://hillviewbaptistgoodlettsville.com/wp-content/uploads/2025/05/IMG_0925-e1770253782857.jpeg
END:VEVENT
BEGIN:VEVENT
DTSTART;TZID=UTC:20260513T183000
DTEND;TZID=UTC:20260513T193000
DTSTAMP:20260425T150914
CREATED:20260422T015401Z
LAST-MODIFIED:20260422T015401Z
UID:6427-1778697000-1778700600@hillviewbaptistgoodlettsville.com
SUMMARY:Member's Meeting
DESCRIPTION:Come for the Member’s meeting as we take care of God’s business!!!!  Praying to see you there!!!
URL:https://hillviewbaptistgoodlettsville.com/event/members-meeting/
ATTACH;FMTTYPE=image/jpeg:https://hillviewbaptistgoodlettsville.com/wp-content/uploads/2026/01/Members-Meeting.jpg
END:VEVENT
BEGIN:VEVENT
DTSTART;TZID=UTC:20260531T090000
DTEND;TZID=UTC:20260531T120000
DTSTAMP:20260425T150914
CREATED:20260422T020506Z
LAST-MODIFIED:20260422T020506Z
UID:6428-1780218000-1780228800@hillviewbaptistgoodlettsville.com
SUMMARY:Graduation Celebration 2026
DESCRIPTION:Come and help us celebrate our high school graduate\, Nate Creson!!!!
URL:https://hillviewbaptistgoodlettsville.com/event/graduation-celebration-2026/
ATTACH;FMTTYPE=image/jpeg:https://hillviewbaptistgoodlettsville.com/wp-content/uploads/2026/04/Graduation-Day.jpg
END:VEVENT
END:VCALENDAR