BEGIN:VCALENDAR
VERSION:2.0
PRODID:-//Hillview Baptist Church - ECPv6.13.0//NONSGML v1.0//EN
CALSCALE:GREGORIAN
METHOD:PUBLISH
X-WR-CALNAME:Hillview Baptist Church
X-ORIGINAL-URL:https://hillviewbaptistgoodlettsville.com
X-WR-CALDESC:Events for Hillview Baptist Church
REFRESH-INTERVAL;VALUE=DURATION:PT1H
X-Robots-Tag:noindex
X-PUBLISHED-TTL:PT1H
BEGIN:VTIMEZONE
TZID:UTC
BEGIN:STANDARD
TZOFFSETFROM:+0000
TZOFFSETTO:+0000
TZNAME:UTC
DTSTART:20260101T000000
END:STANDARD
END:VTIMEZONE
BEGIN:VEVENT
DTSTART;TZID=UTC:20260301T093000
DTEND;TZID=UTC:20260301T120000
DTSTAMP:20260425T105747
CREATED:20260110T031925Z
LAST-MODIFIED:20260222T222353Z
UID:6372-1772357400-1772366400@hillviewbaptistgoodlettsville.com
SUMMARY:The Lord's Supper
DESCRIPTION:Come and join us as we take part in the Lord’s Supper!!!!
URL:https://hillviewbaptistgoodlettsville.com/event/6372/
ATTACH;FMTTYPE=image/png:https://hillviewbaptistgoodlettsville.com/wp-content/uploads/2026/01/Lords-Supper.png
END:VEVENT
BEGIN:VEVENT
DTSTART;TZID=UTC:20260302T163000
DTEND;TZID=UTC:20260302T183000
DTSTAMP:20260425T105747
CREATED:20260110T192516Z
LAST-MODIFIED:20260110T193115Z
UID:6378-1772469000-1772476200@hillviewbaptistgoodlettsville.com
SUMMARY:Outreach Ministry March 2026
DESCRIPTION:Come Help us in this wonderful ministry to the lost!!!!!!
URL:https://hillviewbaptistgoodlettsville.com/event/6378/
ATTACH;FMTTYPE=image/jpeg:https://hillviewbaptistgoodlettsville.com/wp-content/uploads/2025/03/meals-ministry.jpg
END:VEVENT
BEGIN:VEVENT
DTSTART;TZID=UTC:20260304T183000
DTEND;TZID=UTC:20260304T190000
DTSTAMP:20260425T105747
CREATED:20260110T031421Z
LAST-MODIFIED:20260222T221549Z
UID:6369-1772649000-1772650800@hillviewbaptistgoodlettsville.com
SUMMARY:Member Meeting 1st Qtr 2026
DESCRIPTION:Come and help us conduct the Lord’s business!!!!!
URL:https://hillviewbaptistgoodlettsville.com/event/6369/
ATTACH;FMTTYPE=image/jpeg:https://hillviewbaptistgoodlettsville.com/wp-content/uploads/2026/01/Members-Meeting.jpg
END:VEVENT
BEGIN:VEVENT
DTSTART;TZID=UTC:20260328T080000
DTEND;TZID=UTC:20260328T120000
DTSTAMP:20260425T105747
CREATED:20260110T193442Z
LAST-MODIFIED:20260110T193442Z
UID:6388-1774684800-1774699200@hillviewbaptistgoodlettsville.com
SUMMARY:Men's Day
DESCRIPTION:The men of the church will fellowship\, have a devotional\, and work on the church facility and grounds!!! 
URL:https://hillviewbaptistgoodlettsville.com/event/mens-day/
ATTACH;FMTTYPE=image/jpeg:https://hillviewbaptistgoodlettsville.com/wp-content/uploads/2026/01/IMG_2576-scaled.jpg
END:VEVENT
BEGIN:VEVENT
DTSTART;TZID=UTC:20260329T103000
DTEND;TZID=UTC:20260329T123000
DTSTAMP:20260425T105747
CREATED:20260110T193636Z
LAST-MODIFIED:20260110T194053Z
UID:6391-1774780200-1774787400@hillviewbaptistgoodlettsville.com
SUMMARY:5th Sunday Fellowship March 2026
DESCRIPTION:Join us in a great time of fellowship!  More details to follow.
URL:https://hillviewbaptistgoodlettsville.com/event/5th-sunday-fellowship-march-2026/
ATTACH;FMTTYPE=image/jpeg:https://hillviewbaptistgoodlettsville.com/wp-content/uploads/2026/01/5th-Sunday.jpg
END:VEVENT
END:VCALENDAR